BEGIN:VCALENDAR
VERSION:2.0
PRODID:-//Rhodes Funeral Homes - ECPv6.15.8//NONSGML v1.0//EN
CALSCALE:GREGORIAN
METHOD:PUBLISH
X-WR-CALNAME:Rhodes Funeral Homes
X-ORIGINAL-URL:https://rhodesfuneralhomes.com
X-WR-CALDESC:Events for Rhodes Funeral Homes
REFRESH-INTERVAL;VALUE=DURATION:PT1H
X-Robots-Tag:noindex
X-PUBLISHED-TTL:PT1H
BEGIN:VTIMEZONE
TZID:UTC
BEGIN:STANDARD
TZOFFSETFROM:+0000
TZOFFSETTO:+0000
TZNAME:UTC
DTSTART:20230101T000000
END:STANDARD
END:VTIMEZONE
BEGIN:VEVENT
DTSTART;TZID=UTC:20240907T100000
DTEND;TZID=UTC:20240907T120000
DTSTAMP:20260419T220225
CREATED:20240909T182456Z
LAST-MODIFIED:20240909T182456Z
UID:2169-1725703200-1725710400@rhodesfuneralhomes.com
SUMMARY:Carmen A. West
DESCRIPTION:
URL:https://rhodesfuneralhomes.com/event/carmen-a-west/
LOCATION:Redeemed Christian Fellowship COGOP\, 100 Cannon St.\, Poughkeepsie\, NY\, 12601\, United States
CATEGORIES:Funerals
ATTACH;FMTTYPE=image/jpeg:https://rhodesfuneralhomes.com/wp-content/uploads/2024/09/Carmen-West.jpg
END:VEVENT
BEGIN:VEVENT
DTSTART;TZID=UTC:20240912T110000
DTEND;TZID=UTC:20240912T130000
DTSTAMP:20260419T220225
CREATED:20240924T190007Z
LAST-MODIFIED:20240924T190007Z
UID:2188-1726138800-1726146000@rhodesfuneralhomes.com
SUMMARY:Sharon Penfield
DESCRIPTION:
URL:https://rhodesfuneralhomes.com/event/sharon-penfield/
LOCATION:Smith Metropolitan AME Zion Church\, 124 Smith St\, Poughkeepsie\, NY\, 12601\, United States
CATEGORIES:Funerals
ATTACH;FMTTYPE=image/jpeg:https://rhodesfuneralhomes.com/wp-content/uploads/2024/09/Sharon-Penfield.jpg
END:VEVENT
BEGIN:VEVENT
DTSTART;TZID=UTC:20240913T110000
DTEND;TZID=UTC:20240913T130000
DTSTAMP:20260419T220225
CREATED:20240924T184108Z
LAST-MODIFIED:20240924T184108Z
UID:2182-1726225200-1726232400@rhodesfuneralhomes.com
SUMMARY:Catherine Gordon
DESCRIPTION:
URL:https://rhodesfuneralhomes.com/event/catherine-gordon/
LOCATION:Bethel Missionary Baptist Church\, 2607 South Avenue\, Wappingers Falls\, 12590\, United States
CATEGORIES:Funerals
ATTACH;FMTTYPE=image/jpeg:https://rhodesfuneralhomes.com/wp-content/uploads/2024/09/Catherine-Gordon.jpg
END:VEVENT
BEGIN:VEVENT
DTSTART;TZID=UTC:20240913T110000
DTEND;TZID=UTC:20240913T130000
DTSTAMP:20260419T220225
CREATED:20240924T185519Z
LAST-MODIFIED:20240924T185519Z
UID:2185-1726225200-1726232400@rhodesfuneralhomes.com
SUMMARY:Harvel Prince
DESCRIPTION:
URL:https://rhodesfuneralhomes.com/event/harvel-prince/
LOCATION:Trinity Temple SDA Church\, 16 S. Bridge Street\, Poughkeepsie\, 12601\, United States
CATEGORIES:Funerals
ATTACH;FMTTYPE=image/jpeg:https://rhodesfuneralhomes.com/wp-content/uploads/2024/09/Harvel-Prince.jpg
END:VEVENT
BEGIN:VEVENT
DTSTART;TZID=UTC:20240914T100000
DTEND;TZID=UTC:20240914T120000
DTSTAMP:20260419T220225
CREATED:20240909T181954Z
LAST-MODIFIED:20240909T181954Z
UID:2166-1726308000-1726315200@rhodesfuneralhomes.com
SUMMARY:Vyrene Richards
DESCRIPTION:
URL:https://rhodesfuneralhomes.com/event/vyrene-richards/
LOCATION:Rhodes Funeral Home Newburgh\, 18 Lake St.\, Newburgh\, NY\, 12550\, United States
CATEGORIES:Funerals
ATTACH;FMTTYPE=image/jpeg:https://rhodesfuneralhomes.com/wp-content/uploads/2024/09/Vrene-Richards.jpg
END:VEVENT
BEGIN:VEVENT
DTSTART;TZID=UTC:20240914T100000
DTEND;TZID=UTC:20240914T120000
DTSTAMP:20260419T220225
CREATED:20240909T183019Z
LAST-MODIFIED:20240909T183019Z
UID:2172-1726308000-1726315200@rhodesfuneralhomes.com
SUMMARY:De'Asia S.A. Williams
DESCRIPTION:
URL:https://rhodesfuneralhomes.com/event/deasia-s-a-williams/
LOCATION:Life Restoration Church\, 136 1st St\, Newburgh\, 12550\, United States
CATEGORIES:Funerals
ATTACH;FMTTYPE=image/jpeg:https://rhodesfuneralhomes.com/wp-content/uploads/2024/09/DeAsia-Williams.jpg
END:VEVENT
BEGIN:VEVENT
DTSTART;TZID=UTC:20240914T100000
DTEND;TZID=UTC:20240914T120000
DTSTAMP:20260419T220225
CREATED:20240924T191925Z
LAST-MODIFIED:20240924T191925Z
UID:2193-1726308000-1726315200@rhodesfuneralhomes.com
SUMMARY:Arthur C. Holt
DESCRIPTION:
URL:https://rhodesfuneralhomes.com/event/arthur-c-holt/
LOCATION:First Baptist Church of Spring Valley\, 6 Hoyt St\, Spring Valley\, NY\, 10977\, United States
CATEGORIES:Funerals
ATTACH;FMTTYPE=image/jpeg:https://rhodesfuneralhomes.com/wp-content/uploads/2024/09/Arthur-Holt.jpg
END:VEVENT
BEGIN:VEVENT
DTSTART;TZID=UTC:20240914T120000
DTEND;TZID=UTC:20240914T130000
DTSTAMP:20260419T220225
CREATED:20240924T192546Z
LAST-MODIFIED:20240924T192546Z
UID:2198-1726315200-1726318800@rhodesfuneralhomes.com
SUMMARY:Isaiah Ware Jr.
DESCRIPTION:Isaiah Ware Jr. was born on May 17th\, 1947 to Isaiah Sr and Annie Mae Ware in West Memphis\, Arkansas. He was the 2nd of eight children. He died peacefully on August 27th\, 2024 in the Veterans Hospital in Wilkes Barre\, PA. \nIsaiah\, affectionately known as Joli\, was educated in the public school system. In 1966 he was drafted to the United States Army where he honorably served and fought in the Vietnam War. Upon his discharge in 1968\, Joli was awarded 3 medals for his service; The National Defense Services Medal\, the Vietnam Campaign Medal and the Vietnam Service Medal. \nIn 1978 in Newburgh\, NY Joli met Arlene Greene. They were married in 1982. From this union six children were born and raised\, Latasha\, Vanita\, Taurean Sr.\, Omar Sr.\, Jaia\, and Jana. \nJoli was a kind man with a big heart who loved sports and music. He was well known for playing 2nd base in the softball league and was afforded many opportunities to travel and play in other states. He enjoyed spending time with his children\, grandchildren\, siblings\, and friends. Joli also had a close and loving relationship with his nieces and nephews who saw him as a father figure. He was known for always wearing a crisp white t-shirt and fresh white sneakers. \nJoli leaves to cherish his memory\, his children\, Latasha\, Vanita (Elgin)\, Taurean Sr. (Sytyra)\, Omar Sr. (Tiffanie)\, Jaia\, and Jana. 20 grandchildren\, 7 great-grandchildren\, 6 siblings Betty Jean Ware\, Delores Johnson\, Janice Jones\, Joe Louis Ware\, Orlando Maurice Ware\, and Vanessa Ware-Allen. Joli was\npreceded in death by his sister Dorothy Ware-Bradford. A host of nieces\, nephews\, cousins\, and friends who will all miss him dearly
URL:https://rhodesfuneralhomes.com/event/isaiah-ware-jr/
LOCATION:Rhodes Funeral Home Newburgh\, 18 Lake St.\, Newburgh\, NY\, 12550\, United States
CATEGORIES:Funerals
ATTACH;FMTTYPE=image/jpeg:https://rhodesfuneralhomes.com/wp-content/uploads/2024/09/Isaiah-Ware.jpg
END:VEVENT
BEGIN:VEVENT
DTSTART;TZID=UTC:20240919T180000
DTEND;TZID=UTC:20240919T200000
DTSTAMP:20260419T220225
CREATED:20240924T193840Z
LAST-MODIFIED:20240924T193840Z
UID:2210-1726768800-1726776000@rhodesfuneralhomes.com
SUMMARY:Loretta Bush
DESCRIPTION:Our beloved Elder Loretta Bush transitioned on September 15\, 2024\, with her family by her side. Loretta was the eighth child born to Freddy and Ruth Elizabeth Bush on October 27\, 1963\, in Charleston\, South Carolina. \nLoretta leaves behind seven sisters\, Martha and Mary Bush of Poughkeepsie\, NY\, Shenica Odom and Fredia Bush of Queens\, NY\, Tina Brown (Kenneth) of Fresno\, CA\, Fredricka Lacy (Gary) of Winter Haven\, FL\, and Sheila Dent of Tacoma\, WA; 2 spiritual daughters\, Addie Davison\, and Simone West; close friends\, Pastor Alvera Thomas-Johnson\, Joy Doxier\, Pastor Peggie Condon\, and Joan Vernon-Warren. Elder Bush leaves behind a host of nieces\, nephews\, and countless Godchildren. \nProphetess\, Elder Loretta Bush was a bold warrior for God who stood on truth and not popularity. Elder Bush was called into ministry in the late 1980s and later ordained by Bishop William Wayne of New Beginnings Church on July 9\, 1990. Elder Bush was a member of End Time Harvesters International Church\, and Dr. Angella Reid was her Pastor. \nElder Bush enjoyed helping others and was only a phone call away when others needed her. If Elder Bush could not get to you\, she would do what she did best which was pray for you. \nElder Bush worked for Bernard Fineson DDSO in Queens NY\, but her greatest work was done in the ministries she served in such as assisting Pastor Sonya McLaurin in the children’s ministry while attending Holy Light Pentecostal Church in Poughkeepsie\, NY under the leadership of Apostle Debra Gause. \nElder Bush served in street ministry\, jail ministry\, and ministry for the homeless. Elder Bush served other Pastors as well. Pastor Vera Tabernacle of Praise Outreach Ministry in St Croix\, Pastor Lacy The Church of Hope of Winter Haven\, FL. \nElder Bush’s smile\, teaching\, boldness\, unconditional love\, and grace will surely be missed by those whose lives she touched. The family would like to thank those who were a part of her departure journey. Thank you for sitting with Elder Bush\, visiting her\, and praying with and for the family. \nThank you to the following Pastors and their congregations Lamontville Assembly of God Pastor Naiam “Bobbie” Mohamed (Maltee)\, Holy Light Pentecostal Church Apostle Debra Gause\, House of Prayer Pentecostal Holiness Church Bishop Edward Pitman\, Apostle Louis A. Modest Christ Abundant Love\, and End Time Outreach Network\, Pastor Anita Sigh. \nElder Bush was predeceased by her parents Freddy and Ruth Elizabeth Bush\, Brother\nMicheal Bush.
URL:https://rhodesfuneralhomes.com/event/loretta-bush/
LOCATION:Holy Light Pentecostal Church\, 33 South Clover Street\, Poughkeepsie\, NY\, 12601\, United States
CATEGORIES:Funerals
ATTACH;FMTTYPE=image/jpeg:https://rhodesfuneralhomes.com/wp-content/uploads/2024/09/Loretta-Bush.jpg
END:VEVENT
BEGIN:VEVENT
DTSTART;TZID=UTC:20240920T110000
DTEND;TZID=UTC:20240920T130000
DTSTAMP:20260419T220225
CREATED:20240924T194508Z
LAST-MODIFIED:20240924T194643Z
UID:2214-1726830000-1726837200@rhodesfuneralhomes.com
SUMMARY:Myrtle Dasilva
DESCRIPTION:Myrtle Dasilva was born on April 22\, 1941\, to mother Nina Johnson and father Stephen Dasilva in Kingston\, Jamaica. Myrtle\, a pet named\, “Blossom”\, grew up in the Cross Hill district in Clarendon. She attended Warren Hall High School. During her younger years\, her mother passed away and left her with her maternal grandparents. Thereafter\, her father migrated to find a better life in England. \nWhile Myrtle was living in Kingston\, she began motherhood and had 5 children: Aloysius Chang\, Jacqueline Chang-Lindo\, Audrey Edmond Edwards\, Christopher Edmond\, and Jolin Edmond Williams. She was a businesswoman\, who started her own business from the ground up. In 2013\, she lost her fourth child. Christopher Edmond. \nMyrtle came to the USA in 1995 and spent several years with her daughter Jackie in Brooklyn. Her first job in the States was as a nanny in Port Jefferson\, Long Island. After some time living in Brooklyn\, Myrtle relocated to the Bronx and began her career as a certified nursing assistant. She worked at Morningside Nursing Home\, where she was known to be thorough\, and compassionate\, and spent extended time providing exceptional care for her patients. She truly loved her profession and once retired would often reminisce about working with her patients. Myrtle worked well with her colleagues\, developing a reputation as a team player who was motivated and always pleasant no matter the challenge. This led to the development of lasting friendships with two of her former coworkers Mrs. Merle Farquharson and Ms. Joyce McPherson. \nWhile living in the Bronx\, Myrtle was later joined by her daughter Jolin and granddaughter Rasheda. Her children and family describe her as determined\, family-oriented\, loving\, with a great sense of humor. Myrtle loved God and was an avid bible reader. As a mother\, she stressed the importance of God to her children and the power of the Psalms. She was very keen on instilling great homemaking skills in her children. She wasn’t just a great mom\, she transcended her nurturing traits into her roles as mother-in-law\, aunt\, grandmother\, great grandmother\, among others. \nIn the latter portion of her life\, she came to Poughkeepsie where she frequently attended the Poughkeepsie Senior Center. In March 2020\, Myrtle was joined by her daughter Audrey\, son-in-law Sybrandt\, and grandson Garrio. She fell in love with the tranquility of the Hudson Valley as it mirrored her innate serene nature. Myrtle enjoyed watching her favorite television programs\, vacationing\, shopping\, and gardening. She loved to attend outings and stood out as an immaculate dresser. Myrtle was strong-willed and fought up until her last day on August 25\, 2024\, when the Lord called her home. \nChristopher Edmond predeceases Myrtle. She is survived by her children: Aloysius Chang\, Jacqueline Lindo\, Audrey Edwards\, Jolin Williams; sister Cynthia Anderson; grandchildren: Latoya Byfield\, Andre Chang\, Rasheda Brown\, Garrio Edwards\, Audra Chang\, Rashaun Williams; great-grandchildren:\nJordan Anderson\, Ciannie Amenume\, Jediah Brown\, Jace Anderson. \nShe is also survived by a host of aunts\, uncles\, cousins\, nephews\, brothers-in-law\, sisters-in-law\, and friends. May the life she lived have an impact on us all and may her soul find eternal peace in the arms of God.
URL:https://rhodesfuneralhomes.com/event/mary-e-gibson-2/
LOCATION:The Gathering at Faith Assembly\, 25 Golf Club Ln\, Poughkeepsie\, 12601\, United States
CATEGORIES:Funerals
ATTACH;FMTTYPE=image/jpeg:https://rhodesfuneralhomes.com/wp-content/uploads/2024/09/Myrtle-Dasilva.jpg
END:VEVENT
BEGIN:VEVENT
DTSTART;TZID=UTC:20240921T110000
DTEND;TZID=UTC:20240921T130000
DTSTAMP:20260419T220225
CREATED:20240924T193136Z
LAST-MODIFIED:20240924T193136Z
UID:2202-1726916400-1726923600@rhodesfuneralhomes.com
SUMMARY:Samuel Lee Williams
DESCRIPTION:“I have fought a good fight. I have finished my course\, I have kept the faith.” 2 Timothy 4: 7 \nSamuel Lee Williams\, son of Vencia Brown Williams and the late Albert H. Williams was born on November 11\, 1954. On Wednesday\, September 4th\, 2024\, he departed his earthly life in exchange for peaceful and eternal life with our heavenly Father. He was preceded in death by two siblings\, Parlean Edwards and Michael Williams. \n“Sam\,” as he was fondly called\, accepted Christ at an early age under the leadership of the late Rev. Ralph Williams. He dedicated his life to Christ and served as a trustee and church musician for St. John Missionary Baptist Church in Wallace\, N.C. He loved his church and his Pastor\, Rev. Franklin Faison. \nHe graduated from Wallace Rose Hill High School in 1973. Sam was a hard worker and worked in the logging business for years. He was an entrepreneur. He owned and operated Safe Timber Company and Faith-in-One\, LLC Trucking Company. He was called “Mr. Guitar Man\,” by other truckers. Sam was an avid lover of music and singing God’s praises. He was a musician for numerous choirs throughout various counties\, including Columbus\, Duplin\, Pender\, and New Hanover. \nHe also sang passionately and was a member of the gospel groups\, The Travelers and The True Believers. Sam lived the life that he sang about. He loved serving the Lord. He loved spreading the word of God through song and giving God glory. \nSam was a very loving and caring person to all he met. He never met a stranger. He loved telling jokes\, laughing\, and making others feel special. He was very giving of his time and full of wisdom and had a lot of patience. No matter the circumstance\, he always put God first. \nHis favorite scripture was Psalm 27:1\, “The Lord is my light and my salvation; whom shall I fear? The Lord is the strength of my life; of whom shall I be afraid? He loved life and mother nature. He loved working in the woods whenever he got the opportunity to do so. His favorite pastimes were flying his drones\, gardening\, and repairing watches. \nSam was a man who loved God and His family. Cherishing his memory are the love of his life\, Alice Faye (Miss Alice) of the home; mother\, Vencia B. Williams\, Wallace\, NC; daughter\, Jelisha T. Newkirk\, Va.; Stepdaughters\, Nicole Loftin (Lional)\, Charlotte\, N.C.\, Krystal Evans (Rendell)\, Charlotte\, N.C.; grandchildren\, Tichina Hankins\, Johan Loftin\, Zion\, Israel\, Noah\, and Sarai Evans\, Charlotte\, N.C.; sisters\, Annie Louise Sutton\, Wallace\, N.C.\, Linda Sutton (Bobby)\, Wallace\, N.C.; brothers\, James Albert Williams\, Wallace\, N.C.\, Ledell Fennell (Velma)\, Rocky Mount\, N.C.\, Daniel Williams (Tina)\, Wallace\, N.C.; mother-in-law\, Jessie B. Brown; sisters-in-law\, Priscilla Streety (Harold)\, Beverly Williams\, Donna Mostella; brother-in-law\, Bernice F. Edwards; special nephews\, Franklin Sutton and Demond Williams; best friends\, Henry Lee Washington\, Wallace\, N.C\, and Rev. Aaron Taylor\, Oakdale\, Louisiana. A host of nieces\, nephews\, cousins and friends
URL:https://rhodesfuneralhomes.com/event/samuel-lee-williams/
LOCATION:St John Missionary Baptist Church\, 304 Kenan Loop Rd\, Wallace\, NC\, 28466\, United States
CATEGORIES:Funerals
ATTACH;FMTTYPE=image/jpeg:https://rhodesfuneralhomes.com/wp-content/uploads/2024/09/SW-13.jpg
END:VEVENT
BEGIN:VEVENT
DTSTART;TZID=UTC:20240924T110000
DTEND;TZID=UTC:20240924T130000
DTSTAMP:20260419T220225
CREATED:20240924T195107Z
LAST-MODIFIED:20240924T195107Z
UID:2220-1727175600-1727182800@rhodesfuneralhomes.com
SUMMARY:Joseph Chambers
DESCRIPTION:Joseph Chambers was born to the parents Albert Alexander Chambers and Edith Chambers of Michan District\, St. Elizabeth\, Jamaica\, West Indies. In 1970\, Joseph migrated to Bell Glade\, Florida as a farm worker before relocating to Poughkeepsie\, NY in 1990 where he resided until his death. \nAfter a long illness\, Joseph transitioned from this world after a life richly lived in graciousness and kindness. Joseph walked through life with a gentle strength\, touching the lives of everyone he encountered with unforgettable politeness. \nIn 2000\, Joseph married Gertrude Bennett resulting in a blended family of four daughters and four sons. \nIn 2008\, Joseph retired from Wassaic Developmental Center after 15 years of service. During retirement\, Joseph enjoyed playing dominoes and cards\, traveling\, dancing\, playing music\, and being a chauffeur for his family and friends. \nJoseph was pre-deceased by his parents\, his wife Gertrude\, his sister Ivy\, and his brothers Eugene and Botherson. He is survived by his sisters Florence and Lydia\, his daughters Yvonne\, Millicent\, Marjorie\, and Lamata\, and sons Desmond\, Omar\, Trevor\, and Anthony\, as well as 16 grandchildren\, 11 great-grandchildren\, and 6 great-great-grandchildren\, and a host of nieces\, nephews\, family\, and friends. \nJoseph’s unforgettable smile\, fun\, lovingness\, quiet strength\, and longevity of 93 years will live on in our hearts and memories. \nIn lieu of flowers\, the family requests donations to be made to Trinity Temple Seventh-Day Adventist Church located at 14 South Bridge Street\, Poughkeepsie\, NY
URL:https://rhodesfuneralhomes.com/event/joseph-chambers/
LOCATION:Trinity Temple SDA Church\, 16 S. Bridge Street\, Poughkeepsie\, 12601\, United States
CATEGORIES:Funerals
ATTACH;FMTTYPE=image/jpeg:https://rhodesfuneralhomes.com/wp-content/uploads/2024/09/Joseph-Chambers.jpg
END:VEVENT
BEGIN:VEVENT
DTSTART;TZID=UTC:20240927T110000
DTEND;TZID=UTC:20240927T130000
DTSTAMP:20260419T220225
CREATED:20240924T195746Z
LAST-MODIFIED:20240924T195746Z
UID:2226-1727434800-1727442000@rhodesfuneralhomes.com
SUMMARY:Joseph Mack Johnson
DESCRIPTION:
URL:https://rhodesfuneralhomes.com/event/joseph-mack-johnson/
LOCATION:Beulah Baptist Church\, 92 Catharine St\, Poughkeepsie\, NY\, 12601\, United States
CATEGORIES:Funerals
ATTACH;FMTTYPE=image/jpeg:https://rhodesfuneralhomes.com/wp-content/uploads/2024/09/Joseph-M.-Johnson.jpg
END:VEVENT
BEGIN:VEVENT
DTSTART;TZID=UTC:20240927T120000
DTEND;TZID=UTC:20240927T140000
DTSTAMP:20260419T220225
CREATED:20240924T201010Z
LAST-MODIFIED:20240924T201010Z
UID:2229-1727438400-1727445600@rhodesfuneralhomes.com
SUMMARY:Betty Lutterodt
DESCRIPTION:
URL:https://rhodesfuneralhomes.com/event/betty-lutterodt/
LOCATION:Newburgh Tabernacle SDA Church\, 251 Grand Street\, Newburgh\, NY\, 12550\, United States
CATEGORIES:Funerals
ATTACH;FMTTYPE=image/jpeg:https://rhodesfuneralhomes.com/wp-content/uploads/2024/09/Betty-Lutterodt.jpeg
END:VEVENT
BEGIN:VEVENT
DTSTART;TZID=UTC:20240928T110000
DTEND;TZID=UTC:20240928T130000
DTSTAMP:20260419T220225
CREATED:20240924T193407Z
LAST-MODIFIED:20240924T193407Z
UID:2207-1727521200-1727528400@rhodesfuneralhomes.com
SUMMARY:Mary E. Gibson
DESCRIPTION:
URL:https://rhodesfuneralhomes.com/event/mary-e-gibson/
LOCATION:Greater Upperroom Apostolic Church\, 1 Linden Avenue\, Middletown\, NY\, 10940\, United States
CATEGORIES:Funerals
ATTACH;FMTTYPE=image/jpeg:https://rhodesfuneralhomes.com/wp-content/uploads/2024/09/Mary-Gibson.jpg
END:VEVENT
BEGIN:VEVENT
DTSTART;TZID=UTC:20240929T150000
DTEND;TZID=UTC:20240929T170000
DTSTAMP:20260419T220225
CREATED:20241014T143945Z
LAST-MODIFIED:20241014T143945Z
UID:2234-1727622000-1727629200@rhodesfuneralhomes.com
SUMMARY:Lentdell Willie Newkirk
DESCRIPTION:
URL:https://rhodesfuneralhomes.com/event/lentdell-willie-newkirk/
LOCATION:PHJC Modena\, 439 Freetown Highway\, Modena\, 12549\, United States
CATEGORIES:Funerals
ATTACH;FMTTYPE=image/jpeg:https://rhodesfuneralhomes.com/wp-content/uploads/2024/10/Lentdell-Newkirk.jpg
END:VEVENT
BEGIN:VEVENT
DTSTART;TZID=UTC:20240930T110000
DTEND;TZID=UTC:20240930T130000
DTSTAMP:20260419T220225
CREATED:20241014T144333Z
LAST-MODIFIED:20241014T144333Z
UID:2239-1727694000-1727701200@rhodesfuneralhomes.com
SUMMARY:Sabrina L. Cutchin
DESCRIPTION:It is with great sadness that the family of Sabrina Cutchin announced her sudden passing on Monday\, September 16\, 2024\, at the age of 52. \nSabrina Cutchin was born October 3\, 1973\, in Poughkeepsie NY to Ludessa and Ernest Cutchin Sr. Sabrina was educated in the Poughkeepsie School District and was a graduate of Poughkeepsie High School. Sabrina worked for IBM in the Manufacturing Department as a Lab Tech. Sabrina was a very hard worker and took pride in providing for her three sons. \nTo know Brine is to love her. She had a kind heart and would give you the shirt off her back. But\, make no mistake\, she would always give it to you straight no matter who you were. And\, that was one of the many things we loved about her. Brine loved spending time with her family and friends\, cooking out in the backyard\, playing Spades\, drinking Pepsi\, cleaning her house and most of all attending BINGO. She also was a proud grandmother of 6 beautiful grandchildren who she cherished and loved dearly. \nSabrina is survived by loving companion Tracy Hart and three sons Shaquan Erving\, and Tevoughn Erving all of Poughkeepsie NY\, and Shazeek Beauford of Austell\, GA; brothers James Earl Cutchin\, Timmey (Cheryl) Cutchin\, Carl (Vanessa) Cutchin\, Stephen (Simone) Cutchin all of Poughkeepsie NY\, Ernest Cutchin Jr. of Charlotte NC\, Donnell Cutchin of Battle Creek MI\, Robert (Dorothy) Dancy of Scotland Neck NC; sisters Barbara Cutchin of Charlotte NC\, Alberta Cutchin of Nashville NC\, Erma Jean (James) Whitaker of Battleboro NC\, 6 grandchildren and a host of nieces\, nephews\, cousins\, and friends. She was predeceased by her father Ernest Cutchin Sr.\, mother Ludessa Cutchin\, brother David Cutchin\, sister-in-law Deborah Cutchin\, and a host of uncles\, aunts\, cousins\, and friends.
URL:https://rhodesfuneralhomes.com/event/sabrina-l-cutchin/
LOCATION:Holy Light Pentecostal Church\, 33 South Clover Street\, Poughkeepsie\, NY\, 12601\, United States
CATEGORIES:Funerals
ATTACH;FMTTYPE=image/jpeg:https://rhodesfuneralhomes.com/wp-content/uploads/2024/10/Sabrina-Cutchin.jpg
END:VEVENT
END:VCALENDAR